Package: combi Version: 1.22.0 Command: /home/biocbuild/bbs-3.22-bioc/R/bin/R CMD build --keep-empty-dirs --no-resave-data --md5 combi StartedAt: 2025-11-05 17:06:24 -0500 (Wed, 05 Nov 2025) EndedAt: 2025-11-05 17:08:18 -0500 (Wed, 05 Nov 2025) EllapsedTime: 114.2 seconds RetCode: 0 Status: OK PackageFile: combi_1.22.0.tar.gz PackageFileSize: 1.412 MiB