Package: combi Version: 1.22.0 Command: /Library/Frameworks/R.framework/Resources/bin/R CMD INSTALL combi StartedAt: 2025-11-10 15:26:37 -0500 (Mon, 10 Nov 2025) EndedAt: 2025-11-10 15:26:50 -0500 (Mon, 10 Nov 2025) EllapsedTime: 12.9 seconds RetCode: 0 Status: OK