Package: combi Version: 1.22.0 Command: /Library/Frameworks/R.framework/Resources/bin/R CMD build --keep-empty-dirs --no-resave-data combi StartedAt: 2025-11-10 16:00:08 -0500 (Mon, 10 Nov 2025) EndedAt: 2025-11-10 16:01:32 -0500 (Mon, 10 Nov 2025) EllapsedTime: 84.0 seconds RetCode: 0 Status: OK PackageFile: combi_1.22.0.tar.gz PackageFileSize: 1.503 MiB