Package: combi Version: 1.22.0 Maintainer: Stijn Hawinkel MaintainerEmail: stijn.hawinkel at psb.ugent.be git_url: https://git.bioconductor.org/packages/combi git_branch: RELEASE_3_22 git_last_commit: e4cb095 git_last_commit_date: 2025-10-29 10:57:46 -0400 (Wed, 29 Oct 2025)