Package: cola Version: 2.15.0 Command: /Library/Frameworks/R.framework/Resources/bin/R CMD build --keep-empty-dirs --no-resave-data cola StartedAt: 2025-09-30 15:58:50 -0400 (Tue, 30 Sep 2025) EndedAt: 2025-09-30 15:59:03 -0400 (Tue, 30 Sep 2025) EllapsedTime: 13.1 seconds RetCode: 0 Status: OK PackageFile: cola_2.15.0.tar.gz PackageFileSize: 3.658 MiB