Package: cogeqc Version: 1.13.0 Command: /home/biocbuild/R/R/bin/R CMD build --keep-empty-dirs --no-resave-data cogeqc StartedAt: 2025-10-20 22:51:27 -0000 (Mon, 20 Oct 2025) EndedAt: 2025-10-20 22:54:10 -0000 (Mon, 20 Oct 2025) EllapsedTime: 163.1 seconds RetCode: 0 Status: OK PackageFile: cogeqc_1.13.0.tar.gz PackageFileSize: 2.584 MiB