Package: cogeqc Version: 1.13.0 Command: chmod a+r cogeqc -R && F:\biocbuild\bbs-3.22-bioc\R\bin\R.exe CMD build --keep-empty-dirs --no-resave-data cogeqc StartedAt: 2025-08-14 19:14:46 -0400 (Thu, 14 Aug 2025) EndedAt: 2025-08-14 19:17:11 -0400 (Thu, 14 Aug 2025) EllapsedTime: 144.4 seconds RetCode: 0 Status: OK PackageFile: cogeqc_1.13.0.tar.gz PackageFileSize: 2.363 MiB