Package: cogeqc Version: 1.13.0 Command: /Library/Frameworks/R.framework/Resources/bin/R CMD INSTALL cogeqc StartedAt: 2025-10-22 15:29:08 -0400 (Wed, 22 Oct 2025) EndedAt: 2025-10-22 15:29:30 -0400 (Wed, 22 Oct 2025) EllapsedTime: 22.4 seconds RetCode: 0 Status: OK