Package: cogeqc Version: 1.13.0 Command: rm -rf cogeqc.buildbin-libdir && mkdir cogeqc.buildbin-libdir && /Users/biocbuild/BBS/utils/build-universal.sh cogeqc_1.13.0.tar.gz /Library/Frameworks/R.framework/Resources/bin/R cogeqc.buildbin-libdir StartedAt: 2025-10-24 01:28:14 -0400 (Fri, 24 Oct 2025) EndedAt: 2025-10-24 01:28:40 -0400 (Fri, 24 Oct 2025) EllapsedTime: 25.3 seconds RetCode: 0 Status: OK PackageFile: cogeqc_1.13.0.tgz PackageFileSize: 3.378 MiB