Package: cogeqc Version: 1.13.0 Command: /Library/Frameworks/R.framework/Resources/bin/R CMD INSTALL cogeqc StartedAt: 2025-10-24 15:12:40 -0400 (Fri, 24 Oct 2025) EndedAt: 2025-10-24 15:12:46 -0400 (Fri, 24 Oct 2025) EllapsedTime: 5.9 seconds RetCode: 0 Status: OK