Package: cogeqc Version: 1.13.0 Command: /Library/Frameworks/R.framework/Resources/bin/R CMD build --keep-empty-dirs --no-resave-data cogeqc StartedAt: 2025-10-23 15:59:38 -0400 (Thu, 23 Oct 2025) EndedAt: 2025-10-23 16:00:18 -0400 (Thu, 23 Oct 2025) EllapsedTime: 39.5 seconds RetCode: 0 Status: OK PackageFile: cogeqc_1.13.0.tar.gz PackageFileSize: 3.339 MiB