Package: cogeqc Version: 1.13.0 Maintainer: Fabrício Almeida-Silva MaintainerEmail: fabricio_almeidasilva at hotmail.com git_url: https://git.bioconductor.org/packages/cogeqc git_branch: devel git_last_commit: 2630f82 git_last_commit_date: 2025-04-15 12:50:35 -0400 (Tue, 15 Apr 2025)