Package: coRdon Version: 1.27.0 Command: rm -rf coRdon.buildbin-libdir && mkdir coRdon.buildbin-libdir && F:\biocbuild\bbs-3.22-bioc\R\bin\R.exe CMD INSTALL --build --library=coRdon.buildbin-libdir coRdon_1.27.0.tar.gz StartedAt: 2025-08-15 10:01:42 -0400 (Fri, 15 Aug 2025) EndedAt: 2025-08-15 10:02:49 -0400 (Fri, 15 Aug 2025) EllapsedTime: 66.6 seconds RetCode: 0 Status: OK PackageFile: coRdon_1.27.0.zip PackageFileSize: 1.456 MiB