Package: coRdon Version: 1.27.0 Command: /Library/Frameworks/R.framework/Resources/bin/R CMD INSTALL coRdon StartedAt: 2025-10-23 15:17:42 -0400 (Thu, 23 Oct 2025) EndedAt: 2025-10-23 15:18:06 -0400 (Thu, 23 Oct 2025) EllapsedTime: 24.2 seconds RetCode: 0 Status: OK