Package: coRdon Version: 1.27.0 Command: /Library/Frameworks/R.framework/Resources/bin/R CMD check --install=check:coRdon.install-out.txt --library=/Library/Frameworks/R.framework/Resources/library --no-vignettes --timings coRdon_1.27.0.tar.gz StartedAt: 2025-10-24 20:24:25 -0400 (Fri, 24 Oct 2025) EndedAt: 2025-10-24 20:26:40 -0400 (Fri, 24 Oct 2025) EllapsedTime: 135.0 seconds RetCode: 0 Status: OK CheckDir: coRdon.Rcheck Warnings: 0