Package: coMethDMR Version: 1.14.0 Command: /Library/Frameworks/R.framework/Resources/bin/R CMD INSTALL coMethDMR StartedAt: 2025-11-03 15:43:48 -0500 (Mon, 03 Nov 2025) EndedAt: 2025-11-03 15:44:49 -0500 (Mon, 03 Nov 2025) EllapsedTime: 61.2 seconds RetCode: 0 Status: OK