Package: coGPS Version: 1.53.0 Command: /home/biocbuild/R/R/bin/R CMD INSTALL coGPS StartedAt: 2025-09-29 20:30:05 -0000 (Mon, 29 Sep 2025) EndedAt: 2025-09-29 20:30:44 -0000 (Mon, 29 Sep 2025) EllapsedTime: 38.6 seconds RetCode: 0 Status: OK