Package: cnvGSA Version: 1.53.0 Command: /home/biocbuild/R/R/bin/R CMD INSTALL cnvGSA StartedAt: 2025-10-23 20:34:29 -0000 (Thu, 23 Oct 2025) EndedAt: 2025-10-23 20:34:44 -0000 (Thu, 23 Oct 2025) EllapsedTime: 14.4 seconds RetCode: 0 Status: OK