Package: cnvGSA Version: 1.53.0 Command: /home/biocbuild/R/R/bin/R CMD build --keep-empty-dirs --no-resave-data cnvGSA StartedAt: 2025-10-20 22:49:46 -0000 (Mon, 20 Oct 2025) EndedAt: 2025-10-20 22:50:02 -0000 (Mon, 20 Oct 2025) EllapsedTime: 16.0 seconds RetCode: 0 Status: OK PackageFile: cnvGSA_1.53.0.tar.gz PackageFileSize: 330.2 KiB