Package: cnvGSA Version: 1.54.0 Command: /Library/Frameworks/R.framework/Resources/bin/R CMD INSTALL cnvGSA StartedAt: 2025-10-30 15:15:53 -0400 (Thu, 30 Oct 2025) EndedAt: 2025-10-30 15:16:06 -0400 (Thu, 30 Oct 2025) EllapsedTime: 13.2 seconds RetCode: 0 Status: OK