Package: cn.mops Version: 1.55.1 Command: /home/biocbuild/R/R/bin/R CMD check --install=check:cn.mops.install-out.txt --library=/home/biocbuild/R/R/site-library --no-vignettes --timings cn.mops_1.55.1.tar.gz StartedAt: 2025-10-21 06:39:21 -0000 (Tue, 21 Oct 2025) EndedAt: 2025-10-21 06:43:41 -0000 (Tue, 21 Oct 2025) EllapsedTime: 259.3 seconds RetCode: 0 Status: OK CheckDir: cn.mops.Rcheck Warnings: 0