Package: cn.mops Version: 1.55.1 Command: /home/biocbuild/R/R/bin/R CMD build --keep-empty-dirs --no-resave-data cn.mops StartedAt: 2025-10-20 22:48:52 -0000 (Mon, 20 Oct 2025) EndedAt: 2025-10-20 22:49:55 -0000 (Mon, 20 Oct 2025) EllapsedTime: 63.0 seconds RetCode: 0 Status: OK PackageFile: cn.mops_1.55.1.tar.gz PackageFileSize: 1019 KiB