Package: cn.mops Version: 1.55.1 Command: /home/biocbuild/bbs-3.22-bioc/R/bin/R CMD INSTALL cn.mops StartedAt: 2025-10-19 15:17:05 -0400 (Sun, 19 Oct 2025) EndedAt: 2025-10-19 15:17:23 -0400 (Sun, 19 Oct 2025) EllapsedTime: 18.6 seconds RetCode: 0 Status: OK