Package: cn.mops Version: 1.55.1 Command: /home/biocbuild/bbs-3.22-bioc/R/bin/R CMD check --install=check:cn.mops.install-out.txt --library=/home/biocbuild/bbs-3.22-bioc/R/site-library --timings cn.mops_1.55.1.tar.gz StartedAt: 2025-10-19 22:18:14 -0400 (Sun, 19 Oct 2025) EndedAt: 2025-10-19 22:21:18 -0400 (Sun, 19 Oct 2025) EllapsedTime: 184.2 seconds RetCode: 0 Status: OK CheckDir: cn.mops.Rcheck Warnings: 0