Package: cn.mops Version: 1.55.1 Command: /home/biocbuild/bbs-3.22-bioc/R/bin/R CMD build --keep-empty-dirs --no-resave-data --md5 cn.mops StartedAt: 2025-10-20 16:50:58 -0400 (Mon, 20 Oct 2025) EndedAt: 2025-10-20 16:51:36 -0400 (Mon, 20 Oct 2025) EllapsedTime: 38.0 seconds RetCode: 0 Status: OK PackageFile: cn.mops_1.55.1.tar.gz PackageFileSize: 1.006 MiB