Package: cn.mops Version: 1.56.0 Command: /Library/Frameworks/R.framework/Resources/bin/R CMD check --install=check:cn.mops.install-out.txt --library=/Library/Frameworks/R.framework/Resources/library --no-vignettes --timings cn.mops_1.56.0.tar.gz StartedAt: 2025-11-05 19:33:38 -0500 (Wed, 05 Nov 2025) EndedAt: 2025-11-05 19:34:46 -0500 (Wed, 05 Nov 2025) EllapsedTime: 67.9 seconds RetCode: 0 Status: OK CheckDir: cn.mops.Rcheck Warnings: 0