Package: clusterProfiler Version: 4.17.0 Command: /Library/Frameworks/R.framework/Resources/bin/R CMD build --keep-empty-dirs --no-resave-data clusterProfiler StartedAt: 2025-10-19 16:32:42 -0400 (Sun, 19 Oct 2025) EndedAt: 2025-10-19 16:33:21 -0400 (Sun, 19 Oct 2025) EllapsedTime: 38.9 seconds RetCode: 0 Status: OK PackageFile: clusterProfiler_4.17.0.tar.gz PackageFileSize: 611.1 KiB