Package: clusterExperiment Version: 2.29.1 Command: /home/biocbuild/R/R/bin/R CMD INSTALL clusterExperiment StartedAt: 2025-10-16 22:20:52 -0000 (Thu, 16 Oct 2025) EndedAt: 2025-10-16 22:22:36 -0000 (Thu, 16 Oct 2025) EllapsedTime: 104.2 seconds RetCode: 0 Status: OK