Package: clusterExperiment Version: 2.29.1 Command: /home/biocbuild/R/R/bin/R CMD check --install=check:clusterExperiment.install-out.txt --library=/home/biocbuild/R/R/site-library --no-vignettes --timings clusterExperiment_2.29.1.tar.gz StartedAt: 2025-10-17 07:22:14 -0000 (Fri, 17 Oct 2025) EndedAt: 2025-10-17 07:42:41 -0000 (Fri, 17 Oct 2025) EllapsedTime: 1227.0 seconds RetCode: 0 Status: WARNINGS CheckDir: clusterExperiment.Rcheck Warnings: 2