Package: clusterExperiment Version: 2.29.1 Command: /home/biocbuild/R/R/bin/R CMD build --keep-empty-dirs --no-resave-data clusterExperiment StartedAt: 2025-10-20 22:47:01 -0000 (Mon, 20 Oct 2025) EndedAt: 2025-10-20 22:54:58 -0000 (Mon, 20 Oct 2025) EllapsedTime: 477.2 seconds RetCode: 0 Status: OK PackageFile: clusterExperiment_2.29.1.tar.gz PackageFileSize: 7.133 MiB