Package: clusterExperiment Version: 2.29.1 Command: /home/biocbuild/bbs-3.22-bioc/R/bin/R CMD build --keep-empty-dirs --no-resave-data --md5 clusterExperiment StartedAt: 2025-10-19 16:54:31 -0400 (Sun, 19 Oct 2025) EndedAt: 2025-10-19 16:59:38 -0400 (Sun, 19 Oct 2025) EllapsedTime: 306.2 seconds RetCode: 0 Status: OK PackageFile: clusterExperiment_2.29.1.tar.gz PackageFileSize: 11.92 MiB