Package: clusterExperiment Version: 2.29.1 Command: /Library/Frameworks/R.framework/Resources/bin/R CMD INSTALL clusterExperiment StartedAt: 2025-10-20 15:47:36 -0400 (Mon, 20 Oct 2025) EndedAt: 2025-10-20 15:49:19 -0400 (Mon, 20 Oct 2025) EllapsedTime: 103.1 seconds RetCode: 0 Status: OK