Package: clusterExperiment Version: 2.29.1 Command: /Library/Frameworks/R.framework/Resources/bin/R CMD build --keep-empty-dirs --no-resave-data clusterExperiment StartedAt: 2025-10-20 16:30:22 -0400 (Mon, 20 Oct 2025) EndedAt: 2025-10-20 16:36:52 -0400 (Mon, 20 Oct 2025) EllapsedTime: 390.4 seconds RetCode: 0 Status: OK PackageFile: clusterExperiment_2.29.1.tar.gz PackageFileSize: 11.98 MiB