Package: clusterExperiment Version: 2.29.1 Command: rm -rf clusterExperiment.buildbin-libdir && mkdir clusterExperiment.buildbin-libdir && /Users/biocbuild/BBS/utils/build-universal.sh clusterExperiment_2.29.1.tar.gz /Library/Frameworks/R.framework/Resources/bin/R clusterExperiment.buildbin-libdir StartedAt: 2025-10-21 03:04:46 -0400 (Tue, 21 Oct 2025) EndedAt: 2025-10-21 03:06:19 -0400 (Tue, 21 Oct 2025) EllapsedTime: 92.8 seconds RetCode: 0 Status: OK PackageFile: clusterExperiment_2.29.1.tgz PackageFileSize: 12.97 MiB