Package: clusterExperiment Version: 2.29.1 Command: /Library/Frameworks/R.framework/Resources/bin/R CMD INSTALL clusterExperiment StartedAt: 2025-10-19 15:28:44 -0400 (Sun, 19 Oct 2025) EndedAt: 2025-10-19 15:29:13 -0400 (Sun, 19 Oct 2025) EllapsedTime: 29.0 seconds RetCode: 0 Status: OK