Package: clusterExperiment Version: 2.29.1 Command: /Library/Frameworks/R.framework/Resources/bin/R CMD check --install=check:clusterExperiment.install-out.txt --library=/Library/Frameworks/R.framework/Resources/library --no-vignettes --timings clusterExperiment_2.29.1.tar.gz StartedAt: 2025-10-19 18:57:42 -0400 (Sun, 19 Oct 2025) EndedAt: 2025-10-19 19:02:17 -0400 (Sun, 19 Oct 2025) EllapsedTime: 275.4 seconds RetCode: 0 Status: WARNINGS CheckDir: clusterExperiment.Rcheck Warnings: 2