Package: clstutils Version: 1.57.0 Command: /home/biocbuild/R/R/bin/R CMD check --install=check:clstutils.install-out.txt --library=/home/biocbuild/R/R/site-library --no-vignettes --timings clstutils_1.57.0.tar.gz StartedAt: 2025-10-21 06:35:01 -0000 (Tue, 21 Oct 2025) EndedAt: 2025-10-21 06:35:59 -0000 (Tue, 21 Oct 2025) EllapsedTime: 58.0 seconds RetCode: 0 Status: WARNINGS CheckDir: clstutils.Rcheck Warnings: 1