Package: clstutils Version: 1.57.0 Command: /home/biocbuild/R/R/bin/R CMD build --keep-empty-dirs --no-resave-data clstutils StartedAt: 2025-10-20 22:46:43 -0000 (Mon, 20 Oct 2025) EndedAt: 2025-10-20 22:47:01 -0000 (Mon, 20 Oct 2025) EllapsedTime: 18.0 seconds RetCode: 0 Status: OK PackageFile: clstutils_1.57.0.tar.gz PackageFileSize: 2.681 MiB