Package: clstutils Version: 1.57.0 Command: F:\biocbuild\bbs-3.22-bioc\R\bin\R.exe CMD check --no-multiarch --install=check:clstutils.install-out.txt --library=F:\biocbuild\bbs-3.22-bioc\R\library --no-vignettes --timings clstutils_1.57.0.tar.gz StartedAt: 2025-08-15 01:42:53 -0400 (Fri, 15 Aug 2025) EndedAt: 2025-08-15 01:44:03 -0400 (Fri, 15 Aug 2025) EllapsedTime: 70.2 seconds RetCode: 0 Status: WARNINGS CheckDir: clstutils.Rcheck Warnings: 1