Package: clstutils Version: 1.57.0 Command: /Library/Frameworks/R.framework/Resources/bin/R CMD INSTALL clstutils StartedAt: 2025-10-19 15:11:28 -0400 (Sun, 19 Oct 2025) EndedAt: 2025-10-19 15:12:17 -0400 (Sun, 19 Oct 2025) EllapsedTime: 49.2 seconds RetCode: 0 Status: OK