Package: clstutils Version: 1.57.0 Command: /Library/Frameworks/R.framework/Resources/bin/R CMD check --install=check:clstutils.install-out.txt --library=/Library/Frameworks/R.framework/Resources/library --no-vignettes --timings clstutils_1.57.0.tar.gz StartedAt: 2025-10-19 21:07:19 -0400 (Sun, 19 Oct 2025) EndedAt: 2025-10-19 21:08:29 -0400 (Sun, 19 Oct 2025) EllapsedTime: 69.9 seconds RetCode: 0 Status: WARNINGS CheckDir: clstutils.Rcheck Warnings: 1