Package: clstutils Version: 1.57.0 Command: /Library/Frameworks/R.framework/Resources/bin/R CMD INSTALL clstutils StartedAt: 2025-10-20 15:03:55 -0400 (Mon, 20 Oct 2025) EndedAt: 2025-10-20 15:04:14 -0400 (Mon, 20 Oct 2025) EllapsedTime: 18.3 seconds RetCode: 0 Status: OK