Package: clstutils Version: 1.57.0 Command: /Library/Frameworks/R.framework/Resources/bin/R CMD build --keep-empty-dirs --no-resave-data clstutils StartedAt: 2025-10-20 15:57:08 -0400 (Mon, 20 Oct 2025) EndedAt: 2025-10-20 15:57:18 -0400 (Mon, 20 Oct 2025) EllapsedTime: 10.1 seconds RetCode: 0 Status: OK PackageFile: clstutils_1.57.0.tar.gz PackageFileSize: 2.694 MiB