Package: clst Version: 1.57.0 Command: rm -rf clst.buildbin-libdir && mkdir clst.buildbin-libdir && F:\biocbuild\bbs-3.22-bioc\R\bin\R.exe CMD INSTALL --build --library=clst.buildbin-libdir clst_1.57.0.tar.gz StartedAt: 2025-08-15 09:58:32 -0400 (Fri, 15 Aug 2025) EndedAt: 2025-08-15 09:58:42 -0400 (Fri, 15 Aug 2025) EllapsedTime: 9.8 seconds RetCode: 0 Status: OK PackageFile: clst_1.57.0.zip PackageFileSize: 1.549 MiB