Package: cliqueMS Version: 1.23.0 Command: /Library/Frameworks/R.framework/Resources/bin/R CMD INSTALL cliqueMS StartedAt: 2025-10-19 15:24:02 -0400 (Sun, 19 Oct 2025) EndedAt: 2025-10-19 15:24:27 -0400 (Sun, 19 Oct 2025) EllapsedTime: 25.4 seconds RetCode: 0 Status: OK