Package: clipper Version: 1.49.0 Command: F:\biocbuild\bbs-3.22-bioc\R\bin\R.exe CMD INSTALL clipper StartedAt: 2025-08-14 16:42:46 -0400 (Thu, 14 Aug 2025) EndedAt: 2025-08-14 16:43:39 -0400 (Thu, 14 Aug 2025) EllapsedTime: 52.6 seconds RetCode: 0 Status: OK