Package: clipper Version: 1.49.0 Command: chmod a+r clipper -R && F:\biocbuild\bbs-3.22-bioc\R\bin\R.exe CMD build --keep-empty-dirs --no-resave-data clipper StartedAt: 2025-08-14 19:09:59 -0400 (Thu, 14 Aug 2025) EndedAt: 2025-08-14 19:11:30 -0400 (Thu, 14 Aug 2025) EllapsedTime: 91.0 seconds RetCode: 0 Status: OK PackageFile: clipper_1.49.0.tar.gz PackageFileSize: 1008 KiB