Package: clipper Version: 1.49.0 Command: rm -rf clipper.buildbin-libdir && mkdir clipper.buildbin-libdir && F:\biocbuild\bbs-3.22-bioc\R\bin\R.exe CMD INSTALL --build --library=clipper.buildbin-libdir clipper_1.49.0.tar.gz StartedAt: 2025-08-15 09:58:21 -0400 (Fri, 15 Aug 2025) EndedAt: 2025-08-15 09:59:09 -0400 (Fri, 15 Aug 2025) EllapsedTime: 47.5 seconds RetCode: 0 Status: OK PackageFile: clipper_1.49.0.zip PackageFileSize: 721.3 KiB