Package: clipper Version: 1.49.0 Command: /Library/Frameworks/R.framework/Resources/bin/R CMD build --keep-empty-dirs --no-resave-data clipper StartedAt: 2025-10-03 15:56:12 -0400 (Fri, 03 Oct 2025) EndedAt: 2025-10-03 15:56:43 -0400 (Fri, 03 Oct 2025) EllapsedTime: 31.4 seconds RetCode: 0 Status: OK PackageFile: clipper_1.49.0.tar.gz PackageFileSize: 1006 KiB