Package: clippda Version: 1.59.0 Command: /Library/Frameworks/R.framework/Resources/bin/R CMD check --install=check:clippda.install-out.txt --library=/Library/Frameworks/R.framework/Resources/library --no-vignettes --timings clippda_1.59.0.tar.gz StartedAt: 2025-10-24 20:13:59 -0400 (Fri, 24 Oct 2025) EndedAt: 2025-10-24 20:17:30 -0400 (Fri, 24 Oct 2025) EllapsedTime: 211.0 seconds RetCode: 0 Status: OK CheckDir: clippda.Rcheck Warnings: 0